BEGIN:VCALENDAR
VERSION:2.0
PRODID:-//wp-events-plugin.com//6.4.7.1//EN
BEGIN:VEVENT
UID:622@updogchallenge.com
DTSTART:20181030T150000Z
DTEND:20181030T190000Z
DTSTAMP:20181030T051504Z
URL:https://updogchallenge.com/events/border-collie-nationals-oct-30/
SUMMARY:Gray Summit\, MO\, US - Oct 30th - Border Collie Nationals
DESCRIPTION:Frizgility\, 4WayPlay\, Funkey and 7up\nThe border collies are 
 coming and they want to play UpDog!\nWe will be on the Working Dog/Flying 
 Disc field\n\n&nbsp\;\n\nTuesday Oct 30 10am-4:30pm\n\nRegistration Opens 
 at 9:30\n\nWhat to Do for Friz\, 4Way\, FunKey\, 7Up\n\n&nbsp\;\n\n 	Sign 
 Waiver\n 	Verify Registration Info/ Pay\n 	Check Running Order\n 	Prepare 
 for Glory\n\nWhat do do for Wildcard games…\n\n 	Sign Waiver if you have
 n’t already\n 	Pay\n 	Fill out scoresheet\n 	Fill out running order\n 	B
 ring me your scoresheet when you are up next.\n\n&nbsp\;\n\n10am Friz\n\n1
 1:30am 4Way\n\n1pm FunKey\n\n2:30pm 7Up\n$10 per game or $35 for first 4.\
 n\n&nbsp\;\n\n&nbsp\;\n\n4 – 5:30pm   Wildcard.   You can play any o
 f ThrownGo\, TimeWarp\, spacedout\, 4Way\n\nWildcard games are $8 each\n\n
 &nbsp\;\n\nPlease be ready when it is your turn. Please help with bar sett
 ing and/or sideline judging.\n\nPlayers meeting – before each game for a
 nyone who needs it.\n\n&nbsp\;\n\nAwards – At the end of each game.\n\n&
 nbsp\;
ATTACH;FMTTYPE=image/jpeg:https://updogchallenge.com/wp-content/uploads/20
 15/06/updog-3-dogs.jpg
CATEGORIES:UpDog Events
END:VEVENT
END:VCALENDAR