BEGIN:VCALENDAR
VERSION:2.0
PRODID:-//wp-events-plugin.com//6.4.7.1//EN
BEGIN:VEVENT
UID:3364@updogchallenge.com
DTSTART:20241019T140000Z
DTEND:20241020T220000Z
DTSTAMP:20240925T192243Z
URL:https://updogchallenge.com/events/blaine-mn-us-oct-12th-13th-lucky-mut
 t-dog-training/
SUMMARY:Blaine\, MN\, US - Oct 19th & 20th - Lucky Mutt Dog Training
DESCRIPTION:\n\n\nCLUB NAME\nLucky Mutt Dog Training\n\n\nCONTACT NAME\nAnn
 a and Ben Rimbey\n\n\nCONTACT EMAIL\nluckymuttdogtraining@gmail.com\n\n\nE
 VENT ADDRESS\nNational Sports Center - Outdoor Fields\, 1750 105th Ave NE\
 , Blaine\, Minnesota 55449\, United States\n\n\nEVENT START DATE\n10/19/20
 24\n\n\nEVENT END DATE\n10/20/2024\n\n\nEVENT START TIME\n9:00 AM\n\n\nEV
 ENT END TIME\n5:00 PM\n\n\nGAMES BEING PLAYED\nTo Be Determined\n\n\n
CATEGORIES:UpDog Events
LOCATION:Blaine\, Minnesota\, 1750 105th Ave NE\, Blaine\, MN\, 55449\, Uni
 ted States
X-APPLE-STRUCTURED-LOCATION;VALUE=URI;X-ADDRESS=1750 105th Ave NE\, Blaine\
 , MN\, 55449\, United States;X-APPLE-RADIUS=100;X-TITLE=Blaine\, Minnesota
 :geo:0,0
END:VEVENT
END:VCALENDAR