BEGIN:VCALENDAR
VERSION:2.0
PRODID:-//wp-events-plugin.com//6.4.7.1//EN
BEGIN:VEVENT
UID:1245@updogchallenge.com
DTSTART;VALUE=DATE:20200712
DTEND;VALUE=DATE:20200713
DTSTAMP:20200707T162442Z
URL:https://updogchallenge.com/events/baytown-tx-us-july-11th-disc-dogs-of
 -greater-houston/
SUMMARY:Cancelled - Baytown\, TX\, US - July 12th - Disc Dogs of Greater Ho
 uston
DESCRIPTION:\n\n\nContact Name\nMadisyn Bracey\n\n\nClub/ORG Name\nDisc Dog
 s of Greater Houston\n\n\nContact Email address\nddofgreaterhouston@gmail.
 com\n\n\nClub State\nTexas\n\n\n\n\n\n\nEvent location full Address\n4334
  Crosby Cedar Bayou Rd Baytown\, TX 77521\n\n\nStart Date\nJuly 12\, 2020\
 n\n\nStart Time\n9:00 AM\n\n\nGames you want to offer\nThrowNGo\, Spaced O
 ut\, Time Warp\, FarOut\n\n\n\nThis is a "Points Only" event.  No awards 
 will be offered.  We may run 2 rounds of each game depending on time and 
 weather
CATEGORIES:UpDog Events
LOCATION:Jenkins Park\, 4334 Crosby Cedar Bayou Rd\, Baytown\, TX\, 77521\,
  United States
GEO:29.7753145;-94.93856369999997
X-APPLE-STRUCTURED-LOCATION;VALUE=URI;X-ADDRESS=4334 Crosby Cedar Bayou Rd\
 , Baytown\, TX\, 77521\, United States;X-APPLE-RADIUS=100;X-TITLE=Jenkins 
 Park:geo:29.7753145,-94.93856369999997
END:VEVENT
END:VCALENDAR