BEGIN:VCALENDAR
VERSION:2.0
PRODID:-//wp-events-plugin.com//6.4.7.1//EN
BEGIN:VEVENT
UID:2408@updogchallenge.com
DTSTART:20230506T150000Z
DTEND:20230507T220000Z
DTSTAMP:20221005T162019Z
URL:https://updogchallenge.com/events/avon-in-us-oct-28th-29th-controlled-
 chaos-disc-dogs/
SUMMARY:Avon\, IN\, US - Oct 28th & 29th - Controlled Chaos Disc Dogs
DESCRIPTION:\n\n\nCLUB NAME\nControlled Chaos Disc Dogs\n\n\nCONTACT NAME\n
 Samantha Stinson\n\n\nCONTACT EMAIL\nccdtindy@gmail.com\n\n\nEVENT ADDRESS
 \n5203 E County Rd 150 N\, Avon\, IN 46123\, United States\n\n\nEVENT STAR
 T DATE\n10/28/2023\n\n\nEVENT END DATE\n10/29/2023\n\n\nEVENT START TIME\
 n10:00 AM\n\n\nEVENT END TIME\n5:00 PM\n\n\nGAMES BEING PLAYED\nTo Be Dete
 rmined\n\n\nADDITIONAL EVENT INFORMATION FOR PARTICIPANTS\nMore Informatio
 n to come at a later date.\n\n\n
CATEGORIES:UpDog Events
LOCATION:Avon\, IN\, 5203 E. County Road 150 North\, Avon\, IN\, 46123\, Un
 ited States
GEO:39.783953;-86.435095
X-APPLE-STRUCTURED-LOCATION;VALUE=URI;X-ADDRESS=5203 E. County Road 150 Nor
 th\, Avon\, IN\, 46123\, United States;X-APPLE-RADIUS=100;X-TITLE=Avon\, I
 N:geo:39.783953,-86.435095
END:VEVENT
END:VCALENDAR