BEGIN:VCALENDAR
VERSION:2.0
PRODID:-//wp-events-plugin.com//6.4.7.1//EN
BEGIN:VEVENT
UID:4143@updogchallenge.com
DTSTART:20250426T140000Z
DTEND:20250426T220000Z
DTSTAMP:20250417T014813Z
URL:https://updogchallenge.com/events/austin-tx-us-april-26th-fddt/
SUMMARY:Leander\, TX\, US - April 26th - FDDT
DESCRIPTION:\n\n\nClub Name\nFDDT (Flying Disc Dogs of Texas)\n\n\nContact 
 Name\nTammy Montgomery\n\n\nContact Email\nfddtdogs@gmail.com\n\n\nEvent A
 ddress\n\nDevine Lake Park\n\n1807 Waterfall Ave\, Leander\, TX 78641\n\n\
 n\nEvent Start Date\n4/26/2025\n\n\nEvent End Date\n4/26/2025\n\n\nEvent 
 Start Time\n9:00 AM\n\n\nEvent End Time\n5:00 PM\n\n\nGames Being Played\n
 Fireball\nFour Way Play\nGreedy\nTime Warp\nPairs Four Way Play\n\n\n
CATEGORIES:UpDog Events
LOCATION:Leander\, Texas\, 1807 Waterfall Ave\, Leander\, TX\, 78641\, Unit
 ed States
X-APPLE-STRUCTURED-LOCATION;VALUE=URI;X-ADDRESS=1807 Waterfall Ave\, Leande
 r\, TX\, 78641\, United States;X-APPLE-RADIUS=100;X-TITLE=Leander\, Texas:
 geo:0,0
END:VEVENT
END:VCALENDAR