BEGIN:VCALENDAR
VERSION:2.0
PRODID:-//wp-events-plugin.com//6.4.7.1//EN
BEGIN:VEVENT
UID:506@updogchallenge.com
DTSTART;VALUE=DATE:20180609
DTEND;VALUE=DATE:20180611
DTSTAMP:20180531T024054Z
URL:https://updogchallenge.com/events/ashland-va-us-june-2nd-3rd-radd/
SUMMARY:Ashland\, VA\, US - June 9th & 10th - RADD
DESCRIPTION:\n\n\nContact Name\nDerek Martin\n\n\nClub/ORG Name\nRADD Rich
 mond area Disc Dogs\n\n\nContact Email address\ndmswjackson@gmail.com\n\n\
 nClub State\nVA\n\n\nEvent location full Address\n13400 Liberty School Rd\
 , Ashland\, VA 23005\n\n\nStart Date\nJune 9\, 2018\n\n\nEnd Date\nJune 10
 \, 2018\n\n\nGames you want to offer\n4WayPlay\, ThrowNGo\, Frizgility\, S
 paced Out\, Time Warp\, FarOut\n\n\n\n&nbsp\;\nClick here to register\nEve
 nt Flyer
CATEGORIES:UpDog Events
LOCATION:Ashland VA\, 13400 Liberty School Rd\, Ashland\, VA\, 23005\, Unit
 ed States
GEO:37.781493;-77.54036889999998
X-APPLE-STRUCTURED-LOCATION;VALUE=URI;X-ADDRESS=13400 Liberty School Rd\, A
 shland\, VA\, 23005\, United States;X-APPLE-RADIUS=100;X-TITLE=Ashland VA:
 geo:37.781493,-77.54036889999998
END:VEVENT
END:VCALENDAR