BEGIN:VCALENDAR
VERSION:2.0
PRODID:-//wp-events-plugin.com//6.4.7.1//EN
BEGIN:VEVENT
UID:1792@updogchallenge.com
DTSTART:20211113T140000Z
DTEND:20211114T210000Z
DTSTAMP:20210720T190343Z
URL:https://updogchallenge.com/events/ashland-city-tn-us-nov-13th-14th-nas
 hvertical-disc-dogs/
SUMMARY:Ashland City\, TN\, US - Nov 13th & 14th - NashVertical Disc Dogs
DESCRIPTION:\n\n\nCLUB NAME\nNashVertical Disc Dogs\n\n\nCONTACT NAME\nAsht
 on Bemis\n\n\nCONTACT EMAIL\nnashvertical@gmail.com\n\n\nEVENT ADDRESS\n28
 09 Bearwallow Rd\, Ashland CIty\, TN 37015\, United States\n\n\nEVENT STAR
 T DATE\n11/13/2021\n\n\nEVENT END DATE\n11/14/2021\n\n\nEVENT START TIME\
 n9:00 AM\n\n\nEVENT END TIME\n4:00 PM\n\n\nGAMES BEING PLAYED\nFar Out\nFo
 ur Way Play\nFreestyle\nFrizgility\nFunKey\nGreedy\n7Up\nSpaced Out\nThrow
  N Go\nTime Warp\nPairs Four Way Play\nPairs Throw N Go\n\n\nADDITIONAL EV
 ENT INFORMATION FOR PARTICIPANTS\nCheck out facebook.com/nashverticaldisc
 dogs for more details!\n\n\n
CATEGORIES:UpDog Events
LOCATION:Happy Dog Ranch\, 2809 Bearwallow Rd\, Ashland City\, TN\, 37015\,
  United States
GEO:36.3129722;-86.96943959999999
X-APPLE-STRUCTURED-LOCATION;VALUE=URI;X-ADDRESS=2809 Bearwallow Rd\, Ashlan
 d City\, TN\, 37015\, United States;X-APPLE-RADIUS=100;X-TITLE=Happy Dog R
 anch:geo:36.3129722,-86.96943959999999
END:VEVENT
END:VCALENDAR