BEGIN:VCALENDAR
VERSION:2.0
PRODID:-//wp-events-plugin.com//6.4.7.1//EN
BEGIN:VEVENT
UID:1514@updogchallenge.com
DTSTART:20210227T140000Z
DTEND:20210228T210000Z
DTSTAMP:20210120T232446Z
URL:https://updogchallenge.com/events/ashland-city-tn-us-feb-20th-21st-nas
 hvertical-disc-dogs/
SUMMARY:Ashland City\, TN\, US - Feb 20th & 21st - NashVertical Disc Dogs
DESCRIPTION:\n\n\nCLUB NAME\nNashVertical Disc Dogs\n\n\nCONTACT NAME\nAsht
 on Bemis\n\n\nCONTACT EMAIL\nnashvertical@gmail.com\n\n\nEVENT ADDRESS\n2
 809 Bearwallow Rd\, Ashland CIty\, TN 37015\, United States\n\n\nEVENT ST
 ART DATE\n2/27/2021\n\n\nEVENT END DATE\n2/28/2021\n\n\nEVENT START TIME
 \n9:00 AM\n\n\nEVENT END TIME\n4:00 PM\n\n\nGAMES BEING PLAYED\nFar Out\n
 Four Way Play\nFrizgility\nFunKey\nGreedy\n7Up\nSpaced Out\nThrow N Go\nTi
 me Warp\n\n\nADDITIONAL EVENT INFORMATION FOR PARTICIPANTS\nFor event 
 details\, visit facebook.com/nashverticaldiscdogs\n\n\n
CATEGORIES:UpDog Events
LOCATION:Happy Dog Ranch\, 2809 Bearwallow Rd\, Ashland City\, TN\, 37015\,
  United States
GEO:36.3129722;-86.96943959999999
X-APPLE-STRUCTURED-LOCATION;VALUE=URI;X-ADDRESS=2809 Bearwallow Rd\, Ashlan
 d City\, TN\, 37015\, United States;X-APPLE-RADIUS=100;X-TITLE=Happy Dog R
 anch:geo:36.3129722,-86.96943959999999
END:VEVENT
END:VCALENDAR