BEGIN:VCALENDAR
VERSION:2.0
PRODID:-//wp-events-plugin.com//6.4.7.1//EN
BEGIN:VEVENT
UID:706@updogchallenge.com
DTSTART;VALUE=DATE:20181230
DTEND;VALUE=DATE:20181231
DTSTAMP:20190112T030724Z
URL:https://updogchallenge.com/events/ashland-city-tn-us-dec-30th-happy-do
 g-ranch/
SUMMARY:Ashland City\, TN\, US - Dec 30th - Happy Dog Ranch
DESCRIPTION:\n\n\nContact Name\nKristy Netzer\n\n\nClub/ORG Name\nHappy Dog
  Ranch\, LLC\n\n\nContact Email address\nhappydogkn@gmail.com\n\n\nClub S
 tate\nTN\n\n\n\n\n\n\nEvent location full Address\n2809 Bearwallow Rd\n\n\
 nStart Date\nDecember 30\, 2018\n\n\nEnd Date\nDecember 30\, 2018\n\n\n
CATEGORIES:UpDog Events
LOCATION:Happy Dog Ranch\, 2809 Bearwallow Rd\, Ashland City\, TN\, 37015\,
  United States
GEO:36.3129722;-86.96943959999999
X-APPLE-STRUCTURED-LOCATION;VALUE=URI;X-ADDRESS=2809 Bearwallow Rd\, Ashlan
 d City\, TN\, 37015\, United States;X-APPLE-RADIUS=100;X-TITLE=Happy Dog R
 anch:geo:36.3129722,-86.96943959999999
END:VEVENT
END:VCALENDAR