BEGIN:VCALENDAR
VERSION:2.0
PRODID:-//wp-events-plugin.com//6.4.7.1//EN
BEGIN:VEVENT
UID:2555@updogchallenge.com
DTSTART:20230520T143000Z
DTEND:20230522T220000Z
DTSTAMP:20230114T014642Z
URL:https://updogchallenge.com/events/arnprior-on-us-may-20th-thru-22nd-su
 nshine-disc-dog-group/
SUMMARY:Arnprior\, ON\, US - May 20th thru 22nd - Sunshine Disc Dog Group
DESCRIPTION:\n\n\nCLUB NAME\nSunshine Disc Dog Group\n\n\nCONTACT NAME\nHea
 ther Gallagher\n\n\nCONTACT EMAIL\ngetyourgroomon@gmail.com\n\n\nEVENT AD
 DRESS\n4290 Ivy Acres Road\, Arnprior\, ON K7S3G7\, Canada\n\n\nEVENT STA
 RT DATE\n5/20/2023\n\n\nEVENT END DATE\n5/22/2023\n\n\nEVENT START TIME\
 n9:30 AM\n\n\nEVENT END TIME\n5:00 PM\n\n\nGAMES BEING PLAYED\nTo Be Dete
 rmined\n\n\nADDITIONAL EVENT INFORMATION FOR PARTICIPANTS\nField side pa
 rking\, (dry) camping available\, pre-purchased lunches available all days
 \, plenty of walk out and warm up space\, kiddie pools and hose. RAIN OR
  SHINE IT's A GO :-)\n\n\n
CATEGORIES:UpDog Events
LOCATION:Arnprior\, Ontario\, 4290 Ivy Acres Road\, Arnprior\, ON\, K7S 3G7
 \, Canada
GEO:45.369522;-76.279517
X-APPLE-STRUCTURED-LOCATION;VALUE=URI;X-ADDRESS=4290 Ivy Acres Road\, Arnpr
 ior\, ON\, K7S 3G7\, Canada;X-APPLE-RADIUS=100;X-TITLE=Arnprior\, Ontario:
 geo:45.369522,-76.279517
END:VEVENT
END:VCALENDAR