BEGIN:VCALENDAR
VERSION:2.0
PRODID:-//wp-events-plugin.com//6.4.7.1//EN
BEGIN:VEVENT
UID:2940@updogchallenge.com
DTSTART:20230812T143000Z
DTEND:20230813T213000Z
DTSTAMP:20230720T192414Z
URL:https://updogchallenge.com/events/arnprior-on-ca-aug-12th-13th-sunshin
 e-disc-dog-group/
SUMMARY:Arnprior\, ON\, CA - Aug 12th & 13th - Sunshine Disc Dog Group
DESCRIPTION:\n\n\nCLUB NAME\nSunshine Disc Dog Group\n\n\nCONTACT NAME\nHea
 ther Gallagher\n\n\nCONTACT EMAIL\ngetyourgroomon@gmail.com\n\n\nEVENT ADD
 RESS\nRiver Bend Field\, 4290 Ivy Acres Road\, Arnprior\, ON K7S3G7\, Cana
 da\n\n\nEVENT START DATE\n8/12/2023\n\n\nEVENT END DATE\n8/13/2023\n\n\nEV
 ENT START TIME\n9:30 AM\n\n\nEVENT END TIME\n4:00 PM\n\n\nGAMES BEING PLA
 YED\nTo Be Determined\n\n\nLINK FOR PRE-REGISTRATION:\nhttps://form.jotfor
 m.com/231856822058259\n\n\n
CATEGORIES:UpDog Events
LOCATION:Arnprior\, Ontario\, 4290 Ivy Acres Road\, Arnprior\, ON\, K7S 3G7
 \, Canada
GEO:45.369522;-76.279517
X-APPLE-STRUCTURED-LOCATION;VALUE=URI;X-ADDRESS=4290 Ivy Acres Road\, Arnpr
 ior\, ON\, K7S 3G7\, Canada;X-APPLE-RADIUS=100;X-TITLE=Arnprior\, Ontario:
 geo:45.369522,-76.279517
END:VEVENT
END:VCALENDAR