BEGIN:VCALENDAR
VERSION:2.0
PRODID:-//wp-events-plugin.com//6.4.7.1//EN
BEGIN:VEVENT
UID:261@updogchallenge.com
DTSTART:20170409T140000Z
DTEND:20170409T220000Z
DTSTAMP:20170321T181525Z
URL:https://updogchallenge.com/events/april-9-utah/
SUMMARY:April 9 Utah
DESCRIPTION:Contact \nLane Wood\nAtomic Dogs\nlanerw@gmail.com\n\nEvent lo
 cation \n1134 Sherman Circle\n\nApril 9\, 2017\n9:00 AM - 5:00 PM\nGames
  \n4WayPlay\, ThrowNGo\, Frizgility\, Funkey\, Time Warp\n\nPreregistrati
 on is available at http://www.atomic-dogs.com/april-supernova.html
CATEGORIES:UpDog Events
LOCATION:Hurricane Community Center\, 63 South 100 West\, Hurricane\, UT\, 
 84735\, United States
GEO:37.176385;-113.291066
X-APPLE-STRUCTURED-LOCATION;VALUE=URI;X-ADDRESS=63 South 100 West\, Hurrica
 ne\, UT\, 84735\, United States;X-APPLE-RADIUS=100;X-TITLE=Hurricane Commu
 nity Center:geo:37.176385,-113.291066
END:VEVENT
END:VCALENDAR