BEGIN:VCALENDAR
VERSION:2.0
PRODID:-//wp-events-plugin.com//6.4.7.1//EN
BEGIN:VEVENT
UID:303@updogchallenge.com
DTSTART:20170701T140000Z
DTEND:20170701T220000Z
DTSTAMP:20170622T024707Z
URL:https://updogchallenge.com/events/alberta-july-1/
SUMMARY:Alberta July 1
DESCRIPTION:Contact \nKristen Mckenna\nEdmonton disc dog club\nKristen.mck
 enna@live.ca\n\n\nEvent location \n475013 RR 240\n\nJuly 1\, 2017\n9:00 A
 M - 5:00 PM\n\n\nGames :\n4WayPlay\, ThrowNGo\, Frizgility\, Funkey\, Spa
 ced Out\, Time Warp
CATEGORIES:UpDog Events
LOCATION:Wetaskawin Alberta\, 475013 RR 240\, Wetaskiwin County\, Alberta \
 , T0C1Z0\, Canada
GEO:52.9540951;-114.16853950000001
X-APPLE-STRUCTURED-LOCATION;VALUE=URI;X-ADDRESS=475013 RR 240\, Wetaskiwin 
 County\, Alberta \, T0C1Z0\, Canada;X-APPLE-RADIUS=100;X-TITLE=Wetaskawin 
 Alberta:geo:52.9540951,-114.16853950000001
END:VEVENT
END:VCALENDAR