BEGIN:VCALENDAR
VERSION:2.0
PRODID:-//wp-events-plugin.com//6.4.7.1//EN
BEGIN:VEVENT
UID:5@updogchallenge.com
DTSTART;VALUE=DATE:20140831
DTEND;VALUE=DATE:20140901
DTSTAMP:20140604T210001Z
URL:https://updogchallenge.com/events/alberta-august-31/
SUMMARY:Alberta August 31
DESCRIPTION:
CATEGORIES:UpDog Events
LOCATION:Calgary Disc Dogs\, Marion Paulson\, marion@aqaulease.com\, Albert
 a\, Canada
GEO:53.9332706;-116.5765035
X-APPLE-STRUCTURED-LOCATION;VALUE=URI;X-ADDRESS=Marion Paulson\, marion@aqa
 ulease.com\, Alberta\, Canada;X-APPLE-RADIUS=100;X-TITLE=Calgary Disc Dogs
 :geo:53.9332706,-116.5765035
END:VEVENT
END:VCALENDAR