BEGIN:VCALENDAR
VERSION:2.0
PRODID:-//wp-events-plugin.com//6.4.7.1//EN
BEGIN:VEVENT
UID:86@updogchallenge.com
DTSTART:20151129T180000Z
DTEND:20151130T010000Z
DTSTAMP:20151103T221924Z
URL:https://updogchallenge.com/events/alberta-11-29/
SUMMARY:Alberta 11-29
DESCRIPTION:Event location:\n\nWet Creek Stables\, Balzac Alberta\, T0M 0E0
 \nNovember 29\, 2015\n1:00 PM - 8:00 PM\n\nGames: 4WayPlay\, ThrowNGo\, 
 Frizgility\, Funkey\, Time Warp\n\n&nbsp\;\n\nContact:\n\nKara Bellingham\
 nCalgary Disc Dog Club\nkara.marciniak@gmail.com
CATEGORIES:UpDog Events
LOCATION:\, \, 
GEO:51.212985;-114.00786199999999
X-APPLE-STRUCTURED-LOCATION;VALUE=URI;X-ADDRESS=\, ;X-APPLE-RADIUS=100;X-TI
 TLE=:geo:51.212985,-114.00786199999999
END:VEVENT
END:VCALENDAR