BEGIN:VCALENDAR
VERSION:2.0
PRODID:-//wp-events-plugin.com//6.4.7.1//EN
BEGIN:VEVENT
UID:2244@updogchallenge.com
DTSTART:20220702T050000Z
DTEND:20220728T050000Z
DTSTAMP:20220707T191219Z
URL:https://updogchallenge.com/events/48463/
SUMMARY:Lutz\, FL\, US - July 2nd\, 16th\, 17th & 28th - Bite Club - CFDDC
DESCRIPTION:\n\n\nCLUB NAME\nCFDDC\n\n\nCONTACT NAME\nJennifer Brown\n\n\nC
 ONTACT EMAIL\njenbrowndvm@gmail.com\n\n\n\n\n\n\n\n\n\n\nNOTES TO UPDOG 
 ABOUT YOUR BITE CLUB EVENT(S)\nJuly 2\, July 16\, July 17\, July 28\n\nJu
 ly 2 - Ruth Gimpel Stables 8:30 a.m.\nJuy 16 - Fahle Frisbee Farm - 8 a.m.
 \nJuly 17 - Anderson Snow Park - 8 a.m.\nJuly 28 - Ruth Gimpel Stables - 6
  p.m.\n\n\nEVENT ADDRESS\n18920 Sunlake Blvd\, Lutz\, FL 33558\, United S
 tates\n\n\nEVENT START DATE\n7/2/2022\n\n\nEVENT END DATE\n7/2/2022\n\n\
 nLIST WEEK 2 BITE CLUB DATE:\n7/16/2022\n\n\nLIST WEEK 3 BITE CLUB DATE:\n
 7/17/2022\n\n\nLIST WEEK 4 BITE CLUB DATE:\n7/28/2022\n\n\nGAMES BEING PLA
 YED\nFar Out\nFour Way Play\nGreedy\nSpaced Out\nThrow N Go\nTime Warp\n\n
 \n\n\n\n\n\n\n\n\n\n\n\n\n\n\n\n\n\n\n\n\n
CATEGORIES:Bite Club,UpDog Events
END:VEVENT
END:VCALENDAR