BEGIN:VCALENDAR
VERSION:2.0
PRODID:-//wp-events-plugin.com//6.4.7.1//EN
BEGIN:VEVENT
UID:2227@updogchallenge.com
DTSTART:20220924T140000Z
DTEND:20220925T210000Z
DTSTAMP:20220708T002709Z
URL:https://updogchallenge.com/events/48437/
SUMMARY:Zumbro Falls\, MN\, US - Sept 24th & 25th - Minnesota Disc Dog Club
DESCRIPTION:\n\n\nCLUB NAME\nMinnesota Disc Dog Club\n\n\nCONTACT NAME\nCha
 d Gerber\n\n\nCONTACT EMAIL\nchadb.gerber@gmail.com\n\n\nEVENT ADDRESS\nBl
 uff Valley Campground\, 61297 390th Ave\, Zumbro Falls\, MN 55991\, United
  States\n\n\nEVENT START DATE\n9/24/2022\n\n\nEVENT END DATE\n9/25/2022\n\
 n\nEVENT START TIME\n9:00 AM\n\n\nEVENT END TIME\n4:00 PM\n\n\nGAMES BEIN
 G PLAYED\nFar Out\nFour Way Play\nFreestyle\nFrizgility\nFunKey\nGreedy\n7
 Up\nSpaced Out\nTime Warp\nThrow N Go\n\n\nADDITIONAL EVENT INFORMATION FO
 R PARTICIPANTS\nFollow MNDDC Facebook page for more information.\n\n\n
CATEGORIES:UpDog Events
LOCATION:Mnddc Zumbro\, 61297 390th Ave\, Zumbro Falls\, MN\, 55991\, Unite
 d States
GEO:44.271095;-92.43973799999998
X-APPLE-STRUCTURED-LOCATION;VALUE=URI;X-ADDRESS=61297 390th Ave\, Zumbro Fa
 lls\, MN\, 55991\, United States;X-APPLE-RADIUS=100;X-TITLE=Mnddc Zumbro:g
 eo:44.271095,-92.43973799999998
END:VEVENT
END:VCALENDAR