BEGIN:VCALENDAR
VERSION:2.0
PRODID:-//wp-events-plugin.com//6.4.7.1//EN
BEGIN:VEVENT
UID:1037@updogchallenge.com
DTSTART:20200516T140000Z
DTEND:20200517T220000Z
DTSTAMP:20200427T164751Z
URL:https://updogchallenge.com/events/44208/
SUMMARY:Cancelled - Spring\, TX\, US - May 16th & 17th - Disc Dogs of Great
 er Houston
DESCRIPTION:This event is cancelled.\n\n\n\nContact Name\nMadisyn Bracey\n\
 n\nClub/ORG Name\nDisc Dogs of Greater Houston\n\n\nContact Email address\
 nmadib0605@gmail.com\n\n\nClub State\nTX\n\n\n\n\n\n\nEvent location full
  Address\nAnimal Crackers Boarding &amp\; Grooming 6741 Klein Cemetery Rd 
 Spring\, TX 77379\n\n\nStart Date\nMay 16\, 2020\n\n\nEnd Date\nMay 17\, 2
 020\n\n\nStart Time\n9:00 AM\n\n\nEnd Time\n5:00 PM\n\n\nGames you want to
  offer\n4WayPlay\, Frizgility\, Funkey\, Spaced Out\, Time Warp\, Greedy\n
 \n\n\n\n\n\nAny other event information?\n5/16 - Spaced Out\, Greedy\, Fri
 zgility\n5/17 - Time Warp\, Funkey\, 4 Way Play\n\n\n
CATEGORIES:UpDog Events
LOCATION:Animal Crackers Boarding and Training\, 6741 Klein Cemetery Rd. \
 , Spring\, TX\, 77379\, United States
GEO:30.043598;-95.522445
X-APPLE-STRUCTURED-LOCATION;VALUE=URI;X-ADDRESS=6741 Klein Cemetery Rd. \,
  Spring\, TX\, 77379\, United States;X-APPLE-RADIUS=100;X-TITLE=Animal Cra
 ckers Boarding and Training:geo:30.043598,-95.522445
END:VEVENT
END:VCALENDAR